BEGIN:VCALENDAR
VERSION:2.0
PRODID:-//Pierced Heart Moto - ECPv6.15.20//NONSGML v1.0//EN
CALSCALE:GREGORIAN
METHOD:PUBLISH
X-WR-CALNAME:Pierced Heart Moto
X-ORIGINAL-URL:https://piercedheartmoto.com
X-WR-CALDESC:Events for Pierced Heart Moto
REFRESH-INTERVAL;VALUE=DURATION:PT1H
X-Robots-Tag:noindex
X-PUBLISHED-TTL:PT1H
BEGIN:VTIMEZONE
TZID:America/Chicago
BEGIN:DAYLIGHT
TZOFFSETFROM:-0600
TZOFFSETTO:-0500
TZNAME:CDT
DTSTART:20240310T080000
END:DAYLIGHT
BEGIN:STANDARD
TZOFFSETFROM:-0500
TZOFFSETTO:-0600
TZNAME:CST
DTSTART:20241103T070000
END:STANDARD
BEGIN:DAYLIGHT
TZOFFSETFROM:-0600
TZOFFSETTO:-0500
TZNAME:CDT
DTSTART:20250309T080000
END:DAYLIGHT
BEGIN:STANDARD
TZOFFSETFROM:-0500
TZOFFSETTO:-0600
TZNAME:CST
DTSTART:20251102T070000
END:STANDARD
BEGIN:DAYLIGHT
TZOFFSETFROM:-0600
TZOFFSETTO:-0500
TZNAME:CDT
DTSTART:20260308T080000
END:DAYLIGHT
BEGIN:STANDARD
TZOFFSETFROM:-0500
TZOFFSETTO:-0600
TZNAME:CST
DTSTART:20261101T070000
END:STANDARD
END:VTIMEZONE
BEGIN:VTIMEZONE
TZID:UTC
BEGIN:STANDARD
TZOFFSETFROM:+0000
TZOFFSETTO:+0000
TZNAME:UTC
DTSTART:20240101T000000
END:STANDARD
END:VTIMEZONE
BEGIN:VEVENT
DTSTART;TZID=America/Chicago:20250628T080000
DTEND;TZID=America/Chicago:20250628T170000
DTSTAMP:20260422T103446
CREATED:20250112T003847Z
LAST-MODIFIED:20250113T001249Z
UID:5950-1751097600-1751130000@piercedheartmoto.com
SUMMARY:GET VERTICAL | STUNT WARZ
DESCRIPTION:Pierced Heart Moto will be a SPONSOR at Get Vertical Stunt Wars in Castle Rock\, Washington. \n\n\n\nWe will have a booth setup selling merchandise and parts! Come see us there! \n\n\n\nScreenshot
URL:https://piercedheartmoto.com/event/get-vertical-stunt-warz/
CATEGORIES:Stunt Shows
END:VEVENT
BEGIN:VEVENT
DTSTART;TZID=UTC:20250222T100000
DTEND;TZID=UTC:20250223T190000
DTSTAMP:20260422T103446
CREATED:20241215T105928Z
LAST-MODIFIED:20250112T004547Z
UID:3860-1740218400-1740337200@piercedheartmoto.com
SUMMARY:Mama Tried Motorcycle Show
DESCRIPTION:A huge indoor motorcycle expo\, taking place over a wild weekend (Feb 22-23) at the legendary Eagles Ballroom!
URL:https://piercedheartmoto.com/event/mama-tried/
LOCATION:Eagles Club\, 2401 West Wisconsin Ave\, Milwaukee\, 53233\, United States
CATEGORIES:Bike Shows
END:VEVENT
END:VCALENDAR